BEGIN:VCALENDAR
VERSION:2.0
PRODID:spatie/icalendar-generator
DESCRIPTION:Events from Crossroads Drivers Education
X-WR-CALDESC:Events from Crossroads Drivers Education
REFRESH-INTERVAL;VALUE=DURATION:PT1440M
X-PUBLISHED-TTL:PT1440M
BEGIN:VTIMEZONE
TZID:Etc/GMT+0
BEGIN:STANDARD
DTSTART:20241024T083000Z
TZOFFSETFROM:+0000
TZOFFSETTO:+0000
END:STANDARD
END:VTIMEZONE
BEGIN:VTIMEZONE
TZID:UTC
BEGIN:STANDARD
DTSTART:20250725T142107Z
TZOFFSETFROM:+0000
TZOFFSETTO:+0000
END:STANDARD
END:VTIMEZONE
BEGIN:VEVENT
UID:61-50
DTSTAMP:20260421T142107Z
SUMMARY:June Class from 8:30a to 10:30a
LOCATION:
ORGANIZER;CN=crossroadsdriverseducation_gfpt4b:MAILTO:crossroadsdriversed@g
 mail.com
DTSTART;TZID=Etc/GMT+0:20250721T083000
DTEND;TZID=Etc/GMT+0:20250725T103000
X-ALT-DESC;FMTTYPE=TEXT/HTML:
CATEGORIES:Calendar Dates
URL;VALUE=URI:https://www.crossroadsdriverseducation.com/mc-events/june-cla
 ss-from-830a-to-1030a-5/?mc_id=61
END:VEVENT
END:VCALENDAR