BEGIN:VCALENDAR
VERSION:2.0
PRODID:spatie/icalendar-generator
DESCRIPTION:Events from Crossroads Drivers Education
X-WR-CALDESC:Events from Crossroads Drivers Education
REFRESH-INTERVAL;VALUE=DURATION:PT1440M
X-PUBLISHED-TTL:PT1440M
BEGIN:VTIMEZONE
TZID:Etc/GMT+0
BEGIN:STANDARD
DTSTART:20240418T163000Z
TZOFFSETFROM:+0000
TZOFFSETTO:+0000
END:STANDARD
END:VTIMEZONE
BEGIN:VTIMEZONE
TZID:UTC
BEGIN:STANDARD
DTSTART:20250725T215100Z
TZOFFSETFROM:+0000
TZOFFSETTO:+0000
END:STANDARD
END:VTIMEZONE
BEGIN:VEVENT
UID:43-37
DTSTAMP:20260421T215100Z
SUMMARY:January Class from 4:30p to 6:30p
LOCATION:
ORGANIZER;CN=crossroadsdriverseducation_gfpt4b:MAILTO:crossroadsdriversed@g
 mail.com
DTSTART;TZID=Etc/GMT+0:20250113T163000
DTEND;TZID=Etc/GMT+0:20250117T183000
X-ALT-DESC;FMTTYPE=TEXT/HTML:
CATEGORIES:Calendar Dates
URL;VALUE=URI:https://www.crossroadsdriverseducation.com/mc-events/january-
 class-from-430p-to-630p-2/?mc_id=43
END:VEVENT
END:VCALENDAR