BEGIN:VCALENDAR
VERSION:2.0
PRODID:spatie/icalendar-generator
DESCRIPTION:Events from Crossroads Drivers Education
X-WR-CALDESC:Events from Crossroads Drivers Education
REFRESH-INTERVAL;VALUE=DURATION:PT1440M
X-PUBLISHED-TTL:PT1440M
BEGIN:VTIMEZONE
TZID:Etc/GMT+0
BEGIN:STANDARD
DTSTART:20230905T083000Z
TZOFFSETFROM:+0000
TZOFFSETTO:+0000
END:STANDARD
END:VTIMEZONE
BEGIN:VTIMEZONE
TZID:UTC
BEGIN:STANDARD
DTSTART:20250726T071006Z
TZOFFSETFROM:+0000
TZOFFSETTO:+0000
END:STANDARD
END:VTIMEZONE
BEGIN:VEVENT
UID:41-35
DTSTAMP:20260422T071006Z
SUMMARY:June Classes Are Full
LOCATION:
ORGANIZER;CN=crossroadsdriverseducation_gfpt4b:MAILTO:crossroadsdriversed@g
 mail.com
DTSTART;TZID=Etc/GMT+0:20240601T083000
DTEND;TZID=Etc/GMT+0:20240630T093000
X-ALT-DESC;FMTTYPE=TEXT/HTML:
CATEGORIES:Calendar Dates
URL;VALUE=URI:https://www.crossroadsdriverseducation.com/mc-events/june-cla
 sses-are-full/?mc_id=41
END:VEVENT
END:VCALENDAR