BEGIN:VCALENDAR
VERSION:2.0
PRODID:spatie/icalendar-generator
DESCRIPTION:Events from Crossroads Drivers Education
X-WR-CALDESC:Events from Crossroads Drivers Education
REFRESH-INTERVAL;VALUE=DURATION:PT1440M
X-PUBLISHED-TTL:PT1440M
BEGIN:VTIMEZONE
TZID:Etc/GMT+0
BEGIN:STANDARD
DTSTART:20231221T083000Z
TZOFFSETFROM:+0000
TZOFFSETTO:+0000
END:STANDARD
END:VTIMEZONE
BEGIN:VTIMEZONE
TZID:UTC
BEGIN:STANDARD
DTSTART:20250726T022001Z
TZOFFSETFROM:+0000
TZOFFSETTO:+0000
END:STANDARD
END:VTIMEZONE
BEGIN:VEVENT
UID:30-25
DTSTAMP:20260422T022001Z
SUMMARY:September Class 8:30 a.m. - 10:30 a.m.
LOCATION:
ORGANIZER;CN=crossroadsdriverseducation_gfpt4b:MAILTO:crossroadsdriversed@g
 mail.com
DTSTART;TZID=Etc/GMT+0:20240916T083000
DTEND;TZID=Etc/GMT+0:20240920T103000
X-ALT-DESC;FMTTYPE=TEXT/HTML:
CATEGORIES:Calendar Dates
URL;VALUE=URI:https://www.crossroadsdriverseducation.com/mc-events/septembe
 r-class-830-a-m-1030-a-m-3/?mc_id=30
END:VEVENT
END:VCALENDAR